BEGIN:VCALENDAR
VERSION:2.0
PRODID:-//ChamberMaster//Event Calendar 2.0//EN
METHOD:PUBLISH
X-PUBLISHED-TTL:P3D
REFRESH-INTERVAL:P3D
CALSCALE:GREGORIAN
BEGIN:VEVENT
DTSTART:20260513T230000Z
DTEND:20260514T000000Z
X-MICROSOFT-CDO-ALLDAYEVENT:FALSE
SUMMARY:05-13-2026 - CHAMBER 101 - Maximizing Your Membership
DESCRIPTION:
X-ALT-DESC;FMTTYPE=text/html:
LOCATION:Fairfield-Suisun Chamber of Commerce 111 Webster St\, Fairfield\, CA 94533
UID:e.1602.13936
SEQUENCE:3
DTSTAMP:20260422T204425Z
URL:https://business.ntsba.org/events/details/05-13-2026-chamber-101-maximizing-your-membership-13936
END:VEVENT

END:VCALENDAR
