BEGIN:VCALENDAR
VERSION:2.0
PRODID:-//ChamberMaster//Event Calendar 2.0//EN
METHOD:PUBLISH
X-PUBLISHED-TTL:P3D
REFRESH-INTERVAL:P3D
CALSCALE:GREGORIAN
BEGIN:VEVENT
DTSTART:20230921T010000Z
DTEND:20230921T030000Z
X-MICROSOFT-CDO-ALLDAYEVENT:FALSE
SUMMARY:FInancial Opportunity Seminar
DESCRIPTION:MEET AND GREET\n\nFOOD AND BERVARAGES 6 PM - 7PM\n\nSEMINAR 7 PM-8PM
X-ALT-DESC;FMTTYPE=text/html:MEET AND GREET<br />\nFOOD AND BERVARAGES 6 PM - 7PM<br />\nSEMINAR 7 PM-8PM
LOCATION:DAILY DESK 490 CHADBOURNE RD VACAVILL\, CA 94534
UID:e.1602.8189
SEQUENCE:3
DTSTAMP:20260425T131044Z
URL:https://business.ntsba.org/events/details/financial-opportunity-seminar-8189
END:VEVENT

END:VCALENDAR
