BEGIN:VCALENDAR
VERSION:2.0
PRODID:-//ChamberMaster//Event Calendar 2.0//EN
METHOD:PUBLISH
X-PUBLISHED-TTL:P3D
REFRESH-INTERVAL:P3D
CALSCALE:GREGORIAN
BEGIN:VEVENT
DTSTART:20230923T120000Z
DTEND:20230923T170000Z
X-MICROSOFT-CDO-ALLDAYEVENT:FALSE
SUMMARY:Super Diamond Concert benefiting local youth - Fairfield-Suisun Rotary Club
DESCRIPTION:The Fairfield-Suisun Rotary is pleased to announce Super Diamond\, featuring Surreal Neil - An uncanny tribute to beloved\, master singer/songwriter/performer\, American pop icon Neil Diamond. This is a benefit concert supporting Solano County's youth. \n\nSan Francisco's Super Diamond has become one of the most popular live shows at major nightclubs\, theaters\, ballrooms and public events throughout the United States. For three decades the band has performed sell-out shows at venues such as Irving Plaza in New York\, 930 Club in Washington D.C.\, Bimbo's in San Francisco\, and House of Blues venues in Chicago\, Los Angeles\, San Diego\, Cleveland\, Las Vegas\, New Orleans and Dallas to name a few.\n\nSuper Diamond delivers a glittering\, smoke-filled show performing Neil Diamond's hits with a rock edge and unrestrained enthusiasm. Pure entertainment   classic music combined with fun\, energy and passion! Neil Diamond himself has sung his songs on stage with Super Diamond at their shows.\n\nGeneral Show Ticket - All seats in the Upper Reserve section are for the show only. Doors for the performance will open at 6PM.\n\nVIP Ticket buyers will be provided with a reserved seat in the orchestra section\, plus exclusive access to a pre-concert cocktail party and catered buffet dinner starting at 5PM.\n\nPremium VIP Ticket holders will be provided with a premium reserved seat in the orchestra section\, plus exclusive access to a pre-concert cocktail party and catered buffet dinner starting at 5PM and will be able to visit with band members of Super Diamond after the concert for a private meet and greet.\n\nFor questions about your ticket purchase please call Frazier Trager Presents at 707-265-1333
X-ALT-DESC;FMTTYPE=text/html:The Fairfield-Suisun Rotary is pleased to announce&nbsp\;<strong>Super Diamond</strong>\, featuring Surreal Neil - An uncanny tribute to beloved\, master singer/songwriter/performer\, American pop icon&nbsp\;<strong>Neil Diamond. </strong>This is a benefit concert supporting Solano County&rsquo\;s youth.&nbsp\;\n<div>\n<p>San Francisco&rsquo\;s Super Diamond has become one of the most popular live shows at major nightclubs\, theaters\, ballrooms and public events throughout the United States. For three decades the band has performed sell-out shows at venues such as Irving Plaza in New York\, 930 Club in Washington D.C.\, Bimbo&rsquo\;s in San Francisco\, and House of Blues venues in Chicago\, Los Angeles\, San Diego\, Cleveland\, Las Vegas\, New Orleans and Dallas to name a few.</p>\n\n<p>Super Diamond delivers a glittering\, smoke-filled show performing Neil Diamond&lsquo\;s hits with a rock edge and unrestrained enthusiasm. Pure entertainment &ndash\; classic music combined with fun\, energy and passion! Neil Diamond himself has sung his songs on stage with Super Diamond at their shows.</p>\n\n<p>General Show Ticket - All seats in the Upper Reserve section are for the show only. Doors for the performance will open at 6PM.</p>\n\n<p>VIP Ticket buyers will be provided with a reserved seat in the orchestra section\, plus exclusive access to a pre-concert cocktail party and catered buffet dinner starting at 5PM.</p>\n\n<p>Premium VIP Ticket holders will be provided with a premium reserved seat in the orchestra section\, plus exclusive access to a pre-concert cocktail party and catered buffet dinner starting at 5PM and will be able to visit with band members of Super Diamond after the concert for a private meet and greet.</p>\n\n<p><span style="color:#ffff00">For questions about your ticket purchase please call Frazier Trager Presents at 707-265-1333</span></p>\n</div>\n
LOCATION:Solano College Theatre Solano Community College 4000 Suisun Valley Rd Fairfield\, CA 94534
UID:e.1602.8187
SEQUENCE:3
DTSTAMP:20260425T131353Z
URL:https://business.ntsba.org/events/details/super-diamond-concert-benefiting-local-youth-fairfield-suisun-rotary-club-8187
END:VEVENT

END:VCALENDAR
