BEGIN:VCALENDAR
VERSION:2.0
PRODID:-//ChamberMaster//Event Calendar 2.0//EN
METHOD:PUBLISH
X-PUBLISHED-TTL:P3D
REFRESH-INTERVAL:P3D
CALSCALE:GREGORIAN
BEGIN:VEVENT
DTSTART;VALUE=DATE:20190406
DTEND;VALUE=DATE:20190407
TRANSP:TRANSPARENT
X-MICROSOFT-CDO-ALLDAYEVENT:TRUE
SUMMARY:Through the Lens: Vacaville Museum Center for Solano County History & Culture
DESCRIPTION:The Vacaville Museum: A Center for Solano County History & Culture presents "Through the Lens: Our Fruitful Heritage." An engaging photographic exhibit with 1880 images by WR Nutting\, the show details the early orchard days of Solano County. Highlighted are contemporary images taken from the exact vantage point as the Victorian photos. See how Solano County has changed! The show also features an antique fruit wagon\, fruit drying and cutting sheds and interactive maps and activities for all ages
X-ALT-DESC;FMTTYPE=text/html:The Vacaville Museum: A Center for Solano County History &amp\; Culture presents &quot\;Through the Lens: Our Fruitful Heritage.&quot\; An engaging photographic exhibit with 1880 images by WR Nutting\, the show details the early orchard days of Solano County. Highlighted are contemporary images taken from the exact vantage point as the Victorian photos. See how Solano County has changed! The show also features an antique fruit wagon\, fruit drying and cutting sheds and interactive maps and activities for all ages
LOCATION:Vacaville Museum: Center for Solano County History & Culture 213 Buck Ave Vacaville\, CA 95688
UID:e.1602.7012
SEQUENCE:3
DTSTAMP:20260424T100922Z
URL:https://business.ntsba.org/events/details/through-the-lens-vacaville-museum-center-for-solano-county-history-culture-7012
END:VEVENT

END:VCALENDAR
