BEGIN:VCALENDAR
VERSION:2.0
PRODID:-//ChamberMaster//Event Calendar 2.0//EN
METHOD:PUBLISH
X-PUBLISHED-TTL:P3D
REFRESH-INTERVAL:P3D
CALSCALE:GREGORIAN
BEGIN:VEVENT
DTSTART:20190418T000000Z
DTEND:20190418T030000Z
X-MICROSOFT-CDO-ALLDAYEVENT:FALSE
SUMMARY:TOURO’S MOSAIC CELEBRATION
DESCRIPTION:Touro University will host its Mosaic Celebration fundraiser recognizing and supporting the academic achievement of students who\, through their varied cultural experiences\, contribute to inclusive excellence at the university.
X-ALT-DESC;FMTTYPE=text/html:<br />\n<span style="font-size:22px\;">Touro University will host its Mosaic Celebration fundraiser recognizing and supporting the academic achievement of students who\, through their varied cultural experiences\, contribute to inclusive excellence at the university.</span>
LOCATION:Farragut Inn\, 1750 Club Drive\, Mare Island.
UID:e.1602.6977
SEQUENCE:3
DTSTAMP:20260424T101239Z
URL:https://business.ntsba.org/events/details/touro-s-mosaic-celebration-6977
END:VEVENT

END:VCALENDAR
